BEGIN:VCALENDAR
VERSION:2.0
PRODID:-//ChamberMaster//Event Calendar 2.0//EN
METHOD:PUBLISH
X-PUBLISHED-TTL:P3D
REFRESH-INTERVAL:P3D
CALSCALE:GREGORIAN
BEGIN:VEVENT
DTSTART:20250923T213000Z
DTEND:20250924T003000Z
X-MICROSOFT-CDO-ALLDAYEVENT:FALSE
SUMMARY:Stained Glass Lab with Mike: All Levels
DESCRIPTION:6 Tuesdays\, Sep 23-Oct 28\, 530-830pm. Member $360\, Not-Yet-Member $396 LENGTH: 6\, 3-hour classes LEVEL: all levels\, teens welcome with a parent WHAT TO EXPECT: Come to the glass lab! All levels are welcome in this exciting and fun stained glass class with artist Mike Walter. Absolute beginners will learn the basics: choose a pattern for a simple panel\, pick your colors from the glass library\, then learn to cut and fit the pieces\, prepare them for assembly\, solder them together\, then frame your finished piece. More advanced beginner and intermediate students will choose more complex patterns or design their own project. All materials and tools are provided. No experience required and every student will get individual attention. Come make something beautiful! EXTRAS: Every student will complete at least one unique work of art\, maybe more! DON'T FORGET: Wear close-toed shoes and tie long hair back. This class is held in the Makerspace on the lower level of the Education Wing. SAVE: Save $36 on this class by purchasing a membership for only $65 and get discounts on classes and events year-round at the Center.
X-ALT-DESC;FMTTYPE=text/html:6 Tuesdays\, Sep 23-Oct 28\, 530-830pm. Member $360\, Not-Yet-Member $396 LENGTH: 6\, 3-hour classes LEVEL: all levels\, teens welcome with a parent WHAT TO EXPECT: Come to the glass lab! All levels are welcome in this exciting and fun stained glass class with artist Mike Walter. Absolute beginners will learn the basics: choose a pattern for a simple panel\, pick your colors from the glass library\, then learn to cut and fit the pieces\, prepare them for assembly\, solder them together\, then frame your finished piece. More advanced beginner and intermediate students will choose more complex patterns or design their own project. All materials and tools are provided. No experience required and every student will get individual attention. Come make something beautiful! EXTRAS: Every student will complete at least one unique work of art\, maybe more! DON&#39\;T FORGET: Wear close-toed shoes and tie long hair back. This class is held in the Makerspace on the lower level of the Education Wing. SAVE: Save $36 on this class by purchasing a membership for only $65 and get discounts on classes and events year-round at the Center.
LOCATION:Cultural Center\, 307 Old Main St\, South Yarmouth
UID:e.3261.3771
SEQUENCE:3
DTSTAMP:20260421T200813Z
URL:https://business.hyannis.com/events/details/stained-glass-lab-with-mike-all-levels-3771
END:VEVENT

END:VCALENDAR
