BEGIN:VCALENDAR
VERSION:2.0
PRODID:-//ChamberMaster//Event Calendar 2.0//EN
METHOD:PUBLISH
X-PUBLISHED-TTL:P3D
REFRESH-INTERVAL:P3D
CALSCALE:GREGORIAN
BEGIN:VEVENT
DTSTART:20250804T130000Z
DTEND:20250807T150000Z
X-MICROSOFT-CDO-ALLDAYEVENT:FALSE
SUMMARY:SUMMER! Maker Lab: Stained Glass 12-Pointed Stars
DESCRIPTION:Mon-Thu\, Aug 4-7\, 9-11am. Join artist Helaine Buckley and learn how to create a 12-ponted stained glass star in this 4-day workshop for kids aged 8-14! You will choose your pattern and glass and learn how to cut\, tape\, and solder a 12-pointed star together into a gorgeous ornament or suncatcher. Each student will make a unique and beautiful piece of art! No previous experience is required and all materials are provided. Please wear close-toed shoes and tie long hair back. Member $144\, Not-Yet-Member $160. To register visit www.cultural-center.org or call 508-394-7100. Cultural Center of Cape Cod\, 307 Old Main St.\, South Yarmouth.
X-ALT-DESC;FMTTYPE=text/html:Mon-Thu\, Aug 4-7\, 9-11am. Join artist Helaine Buckley and learn how to create a 12-ponted stained glass star in this 4-day workshop for kids aged 8-14! You will choose your pattern and glass and learn how to cut\, tape\, and solder a 12-pointed star together into a gorgeous ornament or suncatcher. Each student will make a unique and beautiful piece of art! No previous experience is required and all materials are provided. Please wear close-toed shoes and tie long hair back. Member $144\, Not-Yet-Member $160. To register visit www.cultural-center.org or call 508-394-7100. Cultural Center of Cape Cod\, 307 Old Main St.\, South Yarmouth.
LOCATION:Cultural Center of Cape Cod\, 307 Old Main St.\, South Yarmouth.
UID:e.3261.3497
SEQUENCE:3
DTSTAMP:20260421T200634Z
URL:https://business.hyannis.com/events/details/summer-maker-lab-stained-glass-12-pointed-stars-3497
END:VEVENT

END:VCALENDAR
