BEGIN:VCALENDAR
VERSION:2.0
PRODID:-//ChamberMaster//Event Calendar 2.0//EN
METHOD:PUBLISH
X-PUBLISHED-TTL:P3D
REFRESH-INTERVAL:P3D
CALSCALE:GREGORIAN
BEGIN:VEVENT
DTSTART:20250925T210000Z
DTEND:20250925T230000Z
X-MICROSOFT-CDO-ALLDAYEVENT:FALSE
SUMMARY:Sun and Sold Opening Reception
DESCRIPTION:Opening Night Party: Thursday\, Sept 25 | 5 7 PM   with food and music We are going to close out the season with sunshine\, community\, and original art   and we want YOU to be part of it! SUN AND SOLD - A Pop-Up Art Sale is happening at the Cultural Center\, and it's designed to get locals excited about buying art\, supporting artists\, and celebrating the Cape's creative spirit. Our talented staff will curate the show. Guests are encouraged to look around\, enjoy the art and hopefully fall in love with some beautiful pieces. The show will last through the weekend with sale hours on Friday\, Sept 26 and Saturday\, Sept 27 | 10 AM 3 PM. Admission is FREE! visit www.cultural-center.org or call 508-394-7100. Cultural Center of Cape Cod\, 307 Old Main St.\, South Yarmouth.
X-ALT-DESC;FMTTYPE=text/html:Opening Night Party: Thursday\, Sept 25 | 5&ndash\;7 PM &mdash\; with food and music We are going to close out the season with sunshine\, community\, and original art &mdash\; and we want YOU to be part of it! SUN AND SOLD - A Pop-Up Art Sale is happening at the Cultural Center\, and it&#39\;s designed to get locals excited about buying art\, supporting artists\, and celebrating the Cape&rsquo\;s creative spirit. Our talented staff will curate the show. Guests are encouraged to look around\, enjoy the art and hopefully fall in love with some beautiful pieces. The show will last through the weekend with sale hours on Friday\, Sept 26 and Saturday\, Sept 27 | 10 AM&ndash\;3 PM. Admission is FREE! visit www.cultural-center.org or call 508-394-7100. Cultural Center of Cape Cod\, 307 Old Main St.\, South Yarmouth.
LOCATION:Cultural Center\, 307 Old Main St\, South Yarmouth
UID:e.3261.3776
SEQUENCE:3
DTSTAMP:20260421T213613Z
URL:https://business.hyannis.com/events/details/sun-and-sold-opening-reception-3776
END:VEVENT

END:VCALENDAR
