BEGIN:VCALENDAR
VERSION:2.0
PRODID:-//ChamberMaster//Event Calendar 2.0//EN
METHOD:PUBLISH
X-PUBLISHED-TTL:P3D
REFRESH-INTERVAL:P3D
CALSCALE:GREGORIAN
BEGIN:VEVENT
DTSTART:20190203T170000Z
DTEND:20190203T183000Z
X-MICROSOFT-CDO-ALLDAYEVENT:FALSE
SUMMARY:Super Bowl Sunday Polar Bear Plunge for the MSPCA-Cape Cod
DESCRIPTION:Just in time for Super Bowl fans to "get chilly before diving into chili\," the MSPCA-Cape Cod will hold its fifth annual Super Bowl Sunday Polar Bear Plunge on Sunday\, Feb. 3 at Craigville Beach in Centerville\, MA! Registration opens at 11:15 AM and we plunge at noon. The invigorating ocean plunge is a fundraising initiative to support the daily operations at the MSPCA Cape Cod. Participants of the Plunge will have a chance to win cash prizes\, gift cards\, a signed Bruins hockey puck\, and an autographed photo of New England Patriot Don'a Hightower! Who doesn't want to brave the cold for that?\n\n\n\nNot up for a swim? Then join the cheering section\, raise funds as a "cheerleader\," and support our brave polar bears! Any donation over $50 earns a Super bowl Sunday Polar Bear Plunge shirt!\n\n\n\nThe "after thaw" party will be at the 19th Hole in Hyannis with complimentary chowder and comfort food.  Cash bar (and please note that the 19th Hole only accepts cash).\n\nWe have a new location for our post plunge "after thaw" party. Please join us at the 19th Hole on 11 Barnstable Road in Hyannis.
X-ALT-DESC;FMTTYPE=text/html:<span style="background-color:rgb(250\, 250\, 250)\; color:rgb(66\, 66\, 66)\; font-family:arial\,helvetica\,sans-serif\; font-size:12px">Just in time for Super Bowl fans to &quot\;get chilly before diving into chili\,&quot\; the MSPCA-Cape Cod will hold its fifth annual Super Bowl Sunday Polar Bear Plunge on Sunday\, Feb. 3 at Craigville Beach in Centerville\, MA! Registration opens at 11:15 AM and we plunge at noon. The invigorating ocean plunge is a fundraising initiative to support the daily operations at the MSPCA Cape Cod. Participants of the Plunge will have a chance to win cash prizes\, gift cards\, a signed Bruins hockey puck\, and an autographed photo of New England Patriot Don&rsquo\;a Hightower! Who doesn&rsquo\;t want to brave the cold for that?<br />\n<br />\nNot up for a swim? Then join the cheering section\, raise funds as a &quot\;cheerleader\,&quot\; and support our brave polar bears! Any donation over $50 earns a Super bowl Sunday Polar Bear Plunge shirt!<br />\n<br />\nThe &quot\;after thaw&quot\; party will be at the 19th Hole in Hyannis with complimentary chowder and comfort food.&nbsp\; Cash bar (and please note that the 19th Hole only accepts cash).</span><br />\n<span style="color:rgb(29\, 33\, 41)\; font-family:helvetica\,arial\,sans-serif\; font-size:14px">We have a new location for our post plunge &quot\;after thaw&quot\; party. Please join us at the 19th Hole on 11 Barnstable Road in Hyannis.&nbsp\;</span>
LOCATION:Craigville Beach\, Centerville\, MA for the plunge. 19th Hole for the "thaw" party.
UID:e.3261.187
SEQUENCE:3
DTSTAMP:20260424T102257Z
URL:https://business.hyannis.com/events/details/super-bowl-sunday-polar-bear-plunge-for-the-mspca-cape-cod-02-03-2019-187
END:VEVENT

END:VCALENDAR
