BEGIN:VCALENDAR
VERSION:2.0
PRODID:-//ChamberMaster//Event Calendar 2.0//EN
METHOD:PUBLISH
X-PUBLISHED-TTL:P3D
REFRESH-INTERVAL:P3D
CALSCALE:GREGORIAN
BEGIN:VEVENT
DTSTART:20220811T140000Z
DTEND:20220811T150000Z
X-MICROSOFT-CDO-ALLDAYEVENT:FALSE
SUMMARY:Tai Chi
DESCRIPTION:Tai Chi
X-ALT-DESC;FMTTYPE=text/html:Tai Chi&nbsp\;
LOCATION:Village Green\, Thursdays Jul 7-Sep 8
UID:e.3261.2279
SEQUENCE:3
DTSTAMP:20260421T143125Z
URL:https://business.hyannis.com/events/details/tai-chi-2279
END:VEVENT

END:VCALENDAR
