BEGIN:VCALENDAR
VERSION:2.0
PRODID:-//ChamberMaster//Event Calendar 2.0//EN
METHOD:PUBLISH
X-PUBLISHED-TTL:P3D
REFRESH-INTERVAL:P3D
CALSCALE:GREGORIAN
BEGIN:VEVENT
DTSTART:20180727T220000Z
DTEND:20180728T010000Z
X-MICROSOFT-CDO-ALLDAYEVENT:FALSE
SUMMARY:Tails of a White Night with Bobby Orr
DESCRIPTION:"Tails of a White Night" will take place on Friday July 27th at the Ridge Club in Sandwich\, MA. Co-Chaired by Maggie Ahearn and Lisa Simons\, along with Honorary Chairman Bobby Orr and Vice-Chair Annie Schneidman Coleman\, there will be cocktails\, a seated dinner\, auction\, raffle\, live music and dancing. All proceeds from the Gala support the daily operations at MSPCA   Cape Cod\, our community programs and the homeless animals of Cape Cod.  Tickets and sponsorships are available at www.mspca.org/capegala.
X-ALT-DESC;FMTTYPE=text/html:<span style="font-size:18px"><span style="font-family:times new roman"><span style="color:rgb(35\, 31\, 32)">&ldquo\;Tails of a White Night&rdquo\; will take place on&nbsp\;</span>Friday July 27th&nbsp\;at the Ridge Club in Sandwich\, MA<span style="color:rgb(35\, 31\, 32)">. Co-Chaired by Maggie Ahearn and Lisa Simons\, along with Honorary Chairman Bobby Orr and Vice-Chair Annie Schneidman Coleman\, there will be cocktails\, a seated dinner\, auction\, raffle\, live music and dancing. All proceeds from the Gala support the daily operations at MSPCA &ndash\; Cape Cod\, our community programs and the homeless animals of Cape Cod.&nbsp\; Tickets and sponsorships are available at www.mspca.org/capegala.&nbsp\;&nbsp\;</span></span></span>
LOCATION:The Ridge Club 70 Country Club Road Sandwich\, MA 02563
UID:e.3261.12
SEQUENCE:3
DTSTAMP:20260424T212906Z
URL:https://business.hyannis.com/events/details/tails-of-a-white-night-with-bobby-orr-12
END:VEVENT

END:VCALENDAR
