BEGIN:VCALENDAR
VERSION:2.0
PRODID:-//ChamberMaster//Event Calendar 2.0//EN
METHOD:PUBLISH
X-PUBLISHED-TTL:P3D
REFRESH-INTERVAL:P3D
CALSCALE:GREGORIAN
BEGIN:VEVENT
DTSTART:20250627T233000Z
DTEND:20250628T013000Z
X-MICROSOFT-CDO-ALLDAYEVENT:FALSE
SUMMARY:Talia Rose in Concert with Guest Heather Scott
DESCRIPTION:Fri\, Jun 27\, 730pm. Join performers Talia Rose and Heather Scott for a night of harmony. Born and raised in Boston\, Talia Rose combines intricate guitar accompaniment and a complex understanding of harmony with carefully crafted\, deeply personal lyrics. Talia's diverse career has included shows as a solo artist and sideman at venues including Club Passim\, The Blue Note\, Duc Des Lombards (Paris)\, The Kofferfabrik (Nuremberg)\, and at the Belize International Jazz Festival. Heather Scott (they/them) is a queer singer-songwriter based out of Boston\, creating music that has a blend of haunted pining and a voice that unearths our collective tender underbelly. Heavily influenced by years of living in the Southeast\, their style is deeply rooted in the sounds of the original folk masters while drawing inspiration from modern Americana and Rock artists. $25 Members\, $30 Not-Yet-Members. For tickets visit www.cultural-center.org or call 508-394-7100. Cultural Center of Cape Cod\, 307 Old Main St.\, South Yarmouth.
X-ALT-DESC;FMTTYPE=text/html:Fri\, Jun 27\, 730pm. Join performers Talia Rose and Heather Scott for a night of harmony. Born and raised in Boston\, Talia Rose combines intricate guitar accompaniment and a complex understanding of harmony with carefully crafted\, deeply personal lyrics. Talia&rsquo\;s diverse career has included shows as a solo artist and sideman at venues including Club Passim\, The Blue Note\, Duc Des Lombards (Paris)\, The Kofferfabrik (Nuremberg)\, and at the Belize International Jazz Festival. Heather Scott (they/them) is a queer singer-songwriter based out of Boston\, creating music that has a blend of haunted pining and a voice that unearths our collective tender underbelly. Heavily influenced by years of living in the Southeast\, their style is deeply rooted in the sounds of the original folk masters while drawing inspiration from modern Americana and Rock artists. $25 Members\, $30 Not-Yet-Members. For tickets visit www.cultural-center.org or call 508-394-7100. Cultural Center of Cape Cod\, 307 Old Main St.\, South Yarmouth.
LOCATION:Cultural Center of Cape Cod\, 307 Old Main St.\, South Yarmouth
UID:e.3261.3322
SEQUENCE:3
DTSTAMP:20260421T164924Z
URL:https://business.hyannis.com/events/details/talia-rose-in-concert-with-guest-heather-scott-3322
END:VEVENT

END:VCALENDAR
