BEGIN:VCALENDAR
VERSION:2.0
PRODID:-//ChamberMaster//Event Calendar 2.0//EN
METHOD:PUBLISH
X-PUBLISHED-TTL:P3D
REFRESH-INTERVAL:P3D
CALSCALE:GREGORIAN
BEGIN:VEVENT
DTSTART;VALUE=DATE:20260508
DTEND;VALUE=DATE:20260509
TRANSP:TRANSPARENT
X-MICROSOFT-CDO-ALLDAYEVENT:TRUE
SUMMARY:Taste the passion of Argentine Tango\, Wine & Food!
DESCRIPTION:Come learn the art of Argentine Tango and experience South American culture\, wine & food!\n\n\n\nAfter a Tango demonstration by Alla & Alex\, you'll be introduced to the basics of this iconic dance. Partners are welcome but not required. Then you'll have time to practice with expert guidance.\n\n\n\nBetween steps\, indulge in a curated selection of expressive wines from Argentina\, led by Alan Champney\, Wine Director at Cape Cod Package Store. Taste handcrafted tapas designed to transport your palate straight to South America. This is all happening in the elegant grand ballroom at the Cultural Center of Cape Cod in South Yarmouth.\n\nExperience\n\n	Tango demonstration & beginner level instruction\n	Argentine wine tasting (think Malbec\, Torront s & more)\n	Tapas-style Argentine bites by Mama Chela Catering\n	A welcoming\, lively atmosphere perfect for mingling\n\nCome for the Wine. Stay for the Dance. Leave with new Passions!\n\n\n\nWINE LIST\n\n\n	Domaine Bousquet Sparking Ros \n	Bodega Colome Torrontes\n	Zuccardi Semillon\n	Catena Malbec\n	Catena Cabernet\n	Saurus Pinot Noir\n\n$50/person\n\nReserve your place on the dance floor today!\n\nBe sure to wear comfortable clothing and leather-soled shoes\n\n*Final Wine Selection may vary.
X-ALT-DESC;FMTTYPE=text/html:Come learn the art of Argentine Tango and experience South American culture\, wine &amp\; food!<br />\n<br />\nAfter a Tango demonstration by Alla &amp\; Alex\, you&#39\;ll be introduced to the basics of this iconic dance. Partners are welcome but not required. Then you&#39\;ll have time to practice with expert guidance.<br />\n<br />\nBetween steps\, indulge in a curated selection of expressive wines from Argentina\, led by Alan Champney\, Wine Director at Cape Cod Package Store. Taste handcrafted tapas designed to transport your palate straight to South America. This is all happening in the elegant grand ballroom at the Cultural Center of Cape Cod in South Yarmouth.<br />\nExperience\n<ul>\n	<li>Tango demonstration &amp\; beginner level instruction</li>\n	<li>Argentine wine tasting (think Malbec\, Torront&eacute\;s &amp\; more)</li>\n	<li>Tapas-style Argentine bites by Mama Chela Catering</li>\n	<li>A welcoming\, lively atmosphere perfect for mingling</li>\n</ul>\nCome for the Wine. Stay for the Dance. Leave with new Passions!<br />\n<br />\n<u><strong>WINE LIST</strong></u>\n\n<ul>\n	<li>Domaine Bousquet Sparking Ros&eacute\;</li>\n	<li>Bodega Colome Torrontes</li>\n	<li>Zuccardi Semillon</li>\n	<li>Catena Malbec</li>\n	<li>Catena Cabernet</li>\n	<li>Saurus Pinot Noir</li>\n</ul>\n$50/person<br />\nReserve your place on the dance floor today!<br />\nBe sure to wear comfortable clothing and leather-soled shoes<br />\n*Final Wine Selection may vary.
LOCATION:Cultural Center of Cape Cod 307 Old Main Street South Yarmouth\, MA
UID:e.3261.3987
SEQUENCE:3
DTSTAMP:20260424T141312Z
URL:https://business.hyannis.com/events/details/taste-the-passion-of-argentine-tango-wine-food-3987
END:VEVENT

END:VCALENDAR
