BEGIN:VCALENDAR
VERSION:2.0
PRODID:-//ChamberMaster//Event Calendar 2.0//EN
METHOD:PUBLISH
X-PUBLISHED-TTL:P3D
REFRESH-INTERVAL:P3D
CALSCALE:GREGORIAN
BEGIN:VEVENT
DTSTART:20181201T150000Z
DTEND:20181201T170000Z
X-MICROSOFT-CDO-ALLDAYEVENT:FALSE
SUMMARY:Teddy Bear Breakfast
DESCRIPTION:Please join Independence House for a special annual Teddy Bear Breakfast hosted and sponsored by Clancy's Restaurant\, 8 Upper County Road in Dennisport.\n\nEnjoy a delicious breakfast buffet and Belgium Waffle decorating station.\n\nEvery child attending receives a new plush Teddy Bear.\n\nHave a personal visit and a picture taken with Santa.\n\nMeet and mingle with the Elves!\n\n\n\nView/Download printable flyer:  https://independencehouse.org/wp-content/uploads/2018/09/Teddy-Bear-Breakfast-FINAL2018.pdf
X-ALT-DESC;FMTTYPE=text/html:<p>Please join Independence House for a special annual Teddy Bear Breakfast hosted and sponsored by Clancy&rsquo\;s Restaurant\, 8 Upper County Road in Dennisport.</p>\n\n<p>Enjoy a delicious breakfast buffet and Belgium Waffle decorating station.<br />\nEvery child attending receives a new plush Teddy Bear.<br />\nHave a personal visit and a picture taken with Santa.<br />\nMeet and mingle with the Elves!<br />\n<br />\nView/Download printable flyer:&nbsp\;&nbsp\;https://independencehouse.org/wp-content/uploads/2018/09/Teddy-Bear-Breakfast-FINAL2018.pdf<br />\n&nbsp\;</p>\n
LOCATION:Clancy's Restaurant 8 Upper County Road Dennisport\, MA
UID:e.3261.128
SEQUENCE:3
DTSTAMP:20260424T143354Z
URL:https://business.hyannis.com/events/details/teddy-bear-breakfast-128
END:VEVENT

END:VCALENDAR
