BEGIN:VCALENDAR
VERSION:2.0
PRODID:-//ChamberMaster//Event Calendar 2.0//EN
METHOD:PUBLISH
X-PUBLISHED-TTL:P3D
REFRESH-INTERVAL:P3D
CALSCALE:GREGORIAN
BEGIN:VEVENT
DTSTART:20181213T223000Z
DTEND:20181214T013000Z
X-MICROSOFT-CDO-ALLDAYEVENT:FALSE
SUMMARY:Telethon for Hope Give-A-Thon Viewing Party
DESCRIPTION:Cape Cod Beer is celebrating the holiday season with a Give-A-Thon & Viewing Party! Cape Cod Beer is a LIVE satellite location for the HAC telethon with guest host Matt Pitta & special guests throughout the night! We'll be streaming the Facebook feed live   see your comments and reactions live on the big screen! Join Housing Assistance Corporation (HAC) staff\, donors\, and supporters at Cape Cod Beer for a Give-A-Thon Viewing Party of this year's Telethon for Hope which will be broadcast live from Cape Cod Community Media Center. Now in its 15th year\, the telethon celebrates the great work HAC is doing to provide all on Cape Cod and the Islands with a safe\, stable\, decent place to live. Funds raised will ensure HAC can continue this mission while giving hope to those who need it most during the holiday season. Matt Pitta of Cape Cod Broadcasting Media will serve as a co-host of this year's telethon\, interviewing special guests live on-air at Cape Cod Beer throughout the night. SOCIAL MEDIA FUNDRAISER: Sign up as a Social Media Fundraiser for admission to the party and to earn special prizes at www.firstgiving.com/event/hac/Telethon-for-HOPE-2018. TICKET PRICES & PRIZES $20   Admission to Give-A-Thon Viewing Party $50   Admission to party\, 1 beer ticket\, and 1 food wristband $100   Admission to party\, 2 beer tickets\, 1 food wristband\, and 1 Cape Cod Beer pint glass $250   Admission for 4 to the party\, 4 beer tickets\, 2 food wristbands\, 1 growler gift pack\, and 2 Cape Cod Beer pint glasses The TOP FUNDRAISER will win a beer tasting for 10 at Cape Cod Beer. Each person in your party will try 5 different beers and get expert tasting notes from the Brew Crew. Arrive early (11 am) Monday through Saturday and enjoy a free educational tour on the art and craft of making beer.
X-ALT-DESC;FMTTYPE=text/html:Cape Cod Beer is celebrating the holiday season with a Give-A-Thon &amp\; Viewing Party! Cape Cod Beer is a LIVE satellite location for the HAC telethon with guest host Matt Pitta &amp\; special guests throughout the night! We&rsquo\;ll be streaming the Facebook feed live &ndash\; see your comments and reactions live on the big screen! Join Housing Assistance Corporation (HAC) staff\, donors\, and supporters at Cape Cod Beer for a Give-A-Thon Viewing Party of this year&rsquo\;s Telethon for Hope which will be broadcast live from Cape Cod Community Media Center. Now in its 15th year\, the telethon celebrates the great work HAC is doing to provide all on Cape Cod and the Islands with a safe\, stable\, decent place to live. Funds raised will ensure HAC can continue this mission while giving hope to those who need it most during the holiday season. Matt Pitta of Cape Cod Broadcasting Media will serve as a co-host of this year&rsquo\;s telethon\, interviewing special guests live on-air at Cape Cod Beer throughout the night. SOCIAL MEDIA FUNDRAISER: Sign up as a Social Media Fundraiser for admission to the party and to earn special prizes at www.firstgiving.com/event/hac/Telethon-for-HOPE-2018. TICKET PRICES &amp\; PRIZES $20 &mdash\; Admission to Give-A-Thon Viewing Party $50 &mdash\; Admission to party\, 1 beer ticket\, and 1 food wristband $100 &mdash\; Admission to party\, 2 beer tickets\, 1 food wristband\, and 1 Cape Cod Beer pint glass $250 &mdash\; Admission for 4 to the party\, 4 beer tickets\, 2 food wristbands\, 1 growler gift pack\, and 2 Cape Cod Beer pint glasses The TOP FUNDRAISER will win a beer tasting for 10 at Cape Cod Beer. Each person in your party will try 5 different beers and get expert tasting notes from the Brew Crew. Arrive early (11 am) Monday through Saturday and enjoy a free educational tour on the art and craft of making beer.
LOCATION:Cape Cod Beer 1336 Phinney's Lane Hyannis\, MA 02601
UID:e.3261.135
SEQUENCE:3
DTSTAMP:20260424T143829Z
URL:https://business.hyannis.com/events/details/telethon-for-hope-give-a-thon-viewing-party-135
END:VEVENT

END:VCALENDAR
