BEGIN:VCALENDAR
VERSION:2.0
PRODID:-//ChamberMaster//Event Calendar 2.0//EN
METHOD:PUBLISH
X-PUBLISHED-TTL:P3D
REFRESH-INTERVAL:P3D
CALSCALE:GREGORIAN
BEGIN:VEVENT
DTSTART:20181004T223000Z
DTEND:20181005T013000Z
X-MICROSOFT-CDO-ALLDAYEVENT:FALSE
SUMMARY:Tennis on Tap
DESCRIPTION:Come to the pre-tennis tournament celebration to support the work of the Cape Cod Community College Educational Foundation! The Cape Cod Community College Educational Foundation is a non-profit organization supporting the mission of Cape Cod Community College\, its students\, its faculty\, and its community endeavors\, by raising and managing funds\, encouraging endowments\, and supporting the College's objectives. $25 per person includes beer\, pizza & live music!
X-ALT-DESC;FMTTYPE=text/html:Come to the pre-tennis tournament celebration to support the work of the Cape Cod Community College Educational Foundation! The Cape Cod Community College Educational Foundation is a non-profit organization supporting the mission of Cape Cod Community College\, its students\, its faculty\, and its community endeavors\, by raising and managing funds\, encouraging endowments\, and supporting the College&rsquo\;s objectives. $25 per person includes beer\, pizza &amp\; live music!
LOCATION:Cape Cod Beer 1336 Phinney's Lane Hyannis\, MA 02601
UID:e.3261.61
SEQUENCE:3
DTSTAMP:20260424T161024Z
URL:https://business.hyannis.com/events/details/tennis-on-tap-61
END:VEVENT

END:VCALENDAR
