BEGIN:VCALENDAR
VERSION:2.0
PRODID:-//ChamberMaster//Event Calendar 2.0//EN
METHOD:PUBLISH
X-PUBLISHED-TTL:P3D
REFRESH-INTERVAL:P3D
CALSCALE:GREGORIAN
BEGIN:VEVENT
DTSTART;VALUE=DATE:20260507
DTEND;VALUE=DATE:20260508
TRANSP:TRANSPARENT
X-MICROSOFT-CDO-ALLDAYEVENT:TRUE
SUMMARY:Tequila Talk & Tasting
DESCRIPTION:Skip the salt and lime & Sip Tequila the way it's meant to be experienced!\n\nJoin us for a guided tasting presented by Chanda DiSanti from Ruby Wines. Enjoy an evening savoring premium pours and hear the stories behind Mexico's most iconic spirit. From crisp vibrant Blancos to smooth complex A ejos\, you'll learn how agave\, region\, aging and craftmanship shape every sip.\n\n?Here's the line up!\n\n\n	Alma Del Jaguar Blanco Tequila\n	Cayeya Blanco Tequila\n	Leyenda 1925 Blanco Tequila\n	Cayeya Reposado Tequila\n	Leyenda 1925 Reposado Tequila\n	Addictivo A ejo Tequila\n	Gracias a Dios Mezcal\n\n\nEnjoy a relaxed evening socializing and discovering a new favorite.\n\n?Bring a friend\, make it a date night\, or join us solo and meet fellow tequila lovers!\n\n$15/ per person*\n\nLimited seating ~ Register Online\n\n\n	Paid guests will receive a $15 store credit that can be used towards a purchase the evening of the event.  Final Tequila selection may vary.
X-ALT-DESC;FMTTYPE=text/html:<h3><strong>Skip the salt and lime &amp\; Sip Tequila</strong><em> the way it&rsquo\;s meant to be experienced!</em></h3>\n\n<p>Join us for a guided tasting presented by Chanda DiSanti from Ruby Wines. Enjoy an evening savoring premium pours and hear the stories behind Mexico&rsquo\;s most iconic spirit. From crisp vibrant Blancos to smooth complex A&ntilde\;ejos\, you&rsquo\;ll learn how agave\, region\, aging and craftmanship shape every sip.</p>\n\n<p><span style="color:rgb(34\, 34\, 34)">?Here&#39\;s the line up!</span></p>\n\n<ul>\n	<li>Alma Del Jaguar Blanco Tequila</li>\n	<li>Cayeya Blanco Tequila</li>\n	<li>Leyenda 1925 Blanco Tequila</li>\n	<li><span style="color:rgb(34\, 34\, 34)">Cayeya Reposado Tequila</span></li>\n	<li>Leyenda 1925 Reposado Tequila</li>\n	<li>Addictivo A&ntilde\;ejo Tequila</li>\n	<li>Gracias a Dios Mezcal</li>\n</ul>\n\n<p>Enjoy a relaxed evening socializing and discovering a new favorite.</p>\n\n<p>?Bring a friend\, make it a date night\, or join us solo and meet fellow tequila lovers!</p>\n\n<p>$15/ per person*</p>\n\n<p>Limited seating ~ Register Online</p>\n\n<ul>\n	<li><span style="color:rgb(34\, 34\, 34)">Paid guests will receive a $15 store credit that can be used towards a purchase the evening of the event.&nbsp\;&nbsp\;</span>Final Tequila selection may vary.</li>\n</ul>\n
LOCATION:Cape Cod Package Store Fine Wine & Spirits
UID:e.3261.3986
SEQUENCE:3
DTSTAMP:20260424T040535Z
URL:https://business.hyannis.com/events/details/tequila-talk-tasting-05-07-2026-3986
END:VEVENT

END:VCALENDAR
