BEGIN:VCALENDAR
VERSION:2.0
PRODID:-//ChamberMaster//Event Calendar 2.0//EN
METHOD:PUBLISH
X-PUBLISHED-TTL:P3D
REFRESH-INTERVAL:P3D
CALSCALE:GREGORIAN
BEGIN:VEVENT
DTSTART:20181121T000000Z
DTEND:20181121T020000Z
X-MICROSOFT-CDO-ALLDAYEVENT:FALSE
SUMMARY:Thanksgiving Flowers After Hours
DESCRIPTION:Join Flowers Angels USA for Flowers After Hours at Cape Cod Beer! "Make or Take" your own beautiful Thanksgiving centerpiece! Learn to create your own centerpiece with one of the "Angels" or take a pre-made one home. Proceeds from the night benefit Flower Angels' mission of love! Enjoy music & nibbles\, sip a pint or enter any of the evening's raffles!
X-ALT-DESC;FMTTYPE=text/html:Join Flowers Angels USA for Flowers After Hours at Cape Cod Beer! &ldquo\;Make or Take&rdquo\; your own beautiful Thanksgiving centerpiece! Learn to create your own centerpiece with one of the &ldquo\;Angels&rdquo\; or take a pre-made one home. Proceeds from the night benefit Flower Angels&rsquo\; mission of love! Enjoy music &amp\; nibbles\, sip a pint or enter any of the evening&rsquo\;s raffles!
LOCATION:Cape Cod Beer 1336 Phinney's Lane Hyannis\, MA 02601
UID:e.3261.101
SEQUENCE:3
DTSTAMP:20260424T144309Z
URL:https://business.hyannis.com/events/details/thanksgiving-flowers-after-hours-101
END:VEVENT

END:VCALENDAR
