BEGIN:VCALENDAR
VERSION:2.0
PRODID:-//ChamberMaster//Event Calendar 2.0//EN
METHOD:PUBLISH
X-PUBLISHED-TTL:P3D
REFRESH-INTERVAL:P3D
CALSCALE:GREGORIAN
BEGIN:VEVENT
DTSTART:20181123T150000Z
DTEND:20181125T220000Z
X-MICROSOFT-CDO-ALLDAYEVENT:FALSE
SUMMARY:Thanksgiving Weekend Harvest Splash
DESCRIPTION:This Year on Black Friday\, give your holiday gifts extra meaning. SHOP LOCAL & SHOP BLUE! at the National Marine Life Center! Gift Shop proceeds used to care for sick animals. FREE refreshments\, Art & Crafts\, TOURS!
X-ALT-DESC;FMTTYPE=text/html:This Year on Black Friday\, give your holiday gifts extra meaning. SHOP LOCAL &amp\; SHOP BLUE! at the National Marine Life Center! Gift Shop proceeds used to care for sick animals. FREE refreshments\, Art &amp\; Crafts\, TOURS!
LOCATION:120 Main Street\, Buzzards Bay\, MA 02532
UID:e.3261.111
SEQUENCE:3
DTSTAMP:20260424T143453Z
URL:https://business.hyannis.com/events/details/thanksgiving-weekend-harvest-splash-111
END:VEVENT

END:VCALENDAR
