BEGIN:VCALENDAR
VERSION:2.0
PRODID:-//ChamberMaster//Event Calendar 2.0//EN
METHOD:PUBLISH
X-PUBLISHED-TTL:P3D
REFRESH-INTERVAL:P3D
CALSCALE:GREGORIAN
BEGIN:VEVENT
DTSTART:20250717T220000Z
DTEND:20250717T230000Z
X-MICROSOFT-CDO-ALLDAYEVENT:FALSE
SUMMARY:The 2025 Summer Concert Series: 'North Country Band' Concert at the Osterville Village Library
DESCRIPTION:Fun for the whole family! Bring your chair! Live music on the Calvin C Gould Library Green at the Osterville Village Library Thursday July 17th at 6pm! Free admission. Donations accepted. Brought to you through the generosity of the Kirkman Trust. July 10th: The Slant Four July 17th: North Country Band July 24th: Brown Dog Band July 31st: Cape Jazz August 7th: OVL Big Band August 14th: The Moonlighters
X-ALT-DESC;FMTTYPE=text/html:Fun for the whole family! Bring your chair! Live music on the Calvin C Gould Library Green at the Osterville Village Library Thursday July 17th at 6pm! Free admission. Donations accepted. Brought to you through the generosity of the Kirkman Trust. July 10th: The Slant Four July 17th: North Country Band July 24th: Brown Dog Band July 31st: Cape Jazz August 7th: OVL Big Band August 14th: The Moonlighters
LOCATION:Calvin C Gould Library Green Osterville Village Library 43 Wianno Ave Osterville MA
UID:e.3261.3362
SEQUENCE:3
DTSTAMP:20260421T224109Z
URL:https://business.hyannis.com/events/details/the-2025-summer-concert-series-north-country-band-concert-at-the-osterville-village-library-3362
END:VEVENT

END:VCALENDAR
