BEGIN:VCALENDAR
VERSION:2.0
PRODID:-//ChamberMaster//Event Calendar 2.0//EN
METHOD:PUBLISH
X-PUBLISHED-TTL:P3D
REFRESH-INTERVAL:P3D
CALSCALE:GREGORIAN
BEGIN:VEVENT
DTSTART:20190330T230000Z
DTEND:20190331T010000Z
X-MICROSOFT-CDO-ALLDAYEVENT:FALSE
SUMMARY:The Big Fake Wedding Cape Cod
DESCRIPTION:The Big Fake Wedding is a bridal show alternative in the form of a big\, fake wedding. "Wedding guests" are brides- and grooms-to-be who enjoy an emotional vow renewal ceremony\, a tasty cocktail-style dinner\, and a dance-party reception while truly experiencing the wedding vendors in action. So\, bring your dancing shoes\, your bridal party\, and maybe a tissue or two. Tickets include light bites\, a signature drink\, and a swag bag.
X-ALT-DESC;FMTTYPE=text/html:The Big Fake Wedding is a bridal show alternative in the form of a big\, fake wedding. &quot\;Wedding guests&quot\; are brides- and grooms-to-be who enjoy an emotional vow renewal ceremony\, a tasty cocktail-style dinner\, and a dance-party reception while truly experiencing the wedding vendors in action. So\, bring your dancing shoes\, your bridal party\, and maybe a tissue or two. Tickets include light bites\, a signature drink\, and a swag bag.
LOCATION:The West End 20 Scudder Avenue Hyannis\, MA 02601
UID:e.3261.193
SEQUENCE:3
DTSTAMP:20260424T083805Z
URL:https://business.hyannis.com/events/details/the-big-fake-wedding-cape-cod-193
END:VEVENT

END:VCALENDAR
