BEGIN:VCALENDAR
VERSION:2.0
PRODID:-//ChamberMaster//Event Calendar 2.0//EN
METHOD:PUBLISH
X-PUBLISHED-TTL:P3D
REFRESH-INTERVAL:P3D
CALSCALE:GREGORIAN
BEGIN:VEVENT
DTSTART:20180916T120000Z
DTEND:20180916T230000Z
X-MICROSOFT-CDO-ALLDAYEVENT:FALSE
SUMMARY:The Last Gasp: Bike\, Boat 'N Bake
DESCRIPTION:Join us as we ride from Sandwich to Provincetown to raise money for nonprofits providing important services to our community. You can choose to support just one organization or split your support amongst all of them. In Provincetown\, you will be treated to sandwiches\, a shower and a scenic cruise back to Sandwich Marina where you will proceed to pick up your bike and head to an authentic Cape Cod lobster bake. A fabulous day for you and your charity of choice.
X-ALT-DESC;FMTTYPE=text/html:Join us as we ride from Sandwich to Provincetown to raise money for nonprofits providing important services to our community. You can choose to support just one organization or split your support amongst all of them. In Provincetown\, you will be treated to sandwiches\, a shower and a scenic cruise back to Sandwich Marina where you will proceed to pick up your bike and head to an authentic Cape Cod lobster bake. A fabulous day for you and your charity of choice.
LOCATION:Route 6A from Sandwich to Provincetown
UID:e.3261.28
SEQUENCE:3
DTSTAMP:20260424T174449Z
URL:https://business.hyannis.com/events/details/the-last-gasp-bike-boat-n-bake-28
END:VEVENT

END:VCALENDAR
