BEGIN:VCALENDAR
VERSION:2.0
PRODID:-//ChamberMaster//Event Calendar 2.0//EN
METHOD:PUBLISH
X-PUBLISHED-TTL:P3D
REFRESH-INTERVAL:P3D
CALSCALE:GREGORIAN
BEGIN:VEVENT
DTSTART:20181002T230000Z
DTEND:20181003T010000Z
X-MICROSOFT-CDO-ALLDAYEVENT:FALSE
SUMMARY:Tic Tac Toe Paint Party
DESCRIPTION:It's a Tic Tac Toe Paint Party at Cape Cod Beer! Includes:   Wood Tray & Blocks   Paint and Stencil   Rope Accents Non refundable Deposit & Reservations required. $30 balance will be due night of party\, cash is appreciated but credit card is accepted. Please specify which design you want. You will choose your colors the night of the party. Design must be confirmed ahead of time. Moose and Mountain design will have beige base and all other designs will have white base.
X-ALT-DESC;FMTTYPE=text/html:It&#39\;s a Tic Tac Toe Paint Party at Cape Cod Beer! Includes: &bull\; Wood Tray &amp\; Blocks &bull\; Paint and Stencil &bull\; Rope Accents Non refundable Deposit &amp\; Reservations required. $30 balance will be due night of party\, cash is appreciated but credit card is accepted. Please specify which design you want. You will choose your colors the night of the party. Design must be confirmed ahead of time. Moose and Mountain design will have beige base and all other designs will have white base.
LOCATION:Cape Cod Beer 1336 Phinney's Lane Hyannis\, MA 02601
UID:e.3261.64
SEQUENCE:3
DTSTAMP:20260424T161034Z
URL:https://business.hyannis.com/events/details/tic-tac-toe-paint-party-64
END:VEVENT

END:VCALENDAR
