BEGIN:VCALENDAR
VERSION:2.0
PRODID:-//ChamberMaster//Event Calendar 2.0//EN
METHOD:PUBLISH
X-PUBLISHED-TTL:P3D
REFRESH-INTERVAL:P3D
CALSCALE:GREGORIAN
BEGIN:VEVENT
DTSTART:20190113T210000Z
DTEND:20190113T230000Z
X-MICROSOFT-CDO-ALLDAYEVENT:FALSE
SUMMARY:Too Marvelous for Words
DESCRIPTION:Baritone soloist John Murelle and pianist William Merrill perform songs of Johnny Mercer\, in an historic building designed by Guy Lowell\, architect of the original building of the Boston Museum of Fine Arts. Light refreshments and an opportunity to converse with the performers following the concert. Proceeds benefit the church. For further information call 508-362-6381
X-ALT-DESC;FMTTYPE=text/html:Baritone soloist John Murelle and pianist William Merrill perform songs of Johnny Mercer\, in an historic building designed by Guy Lowell\, architect of the original building of the Boston Museum of Fine Arts. Light refreshments and an opportunity to converse with the performers following the concert. Proceeds benefit the church. For further information call 508-362-6381
LOCATION:Unitarian Church of Barnstable 3330 Main St. (Rte 6A) Barnstable\, MA 02630
UID:e.3261.160
SEQUENCE:3
DTSTAMP:20260424T113641Z
URL:https://business.hyannis.com/events/details/too-marvelous-for-words-160
END:VEVENT

END:VCALENDAR
