BEGIN:VCALENDAR
VERSION:2.0
PRODID:-//ChamberMaster//Event Calendar 2.0//EN
METHOD:PUBLISH
X-PUBLISHED-TTL:P3D
REFRESH-INTERVAL:P3D
CALSCALE:GREGORIAN
BEGIN:VEVENT
DTSTART:20181210T210000Z
DTEND:20181210T220000Z
X-MICROSOFT-CDO-ALLDAYEVENT:FALSE
SUMMARY:Tourism Circle
DESCRIPTION:The Tourism Circle Agenda\n\n	Co-op advertising opportunities (chamber to match funds)\n	New app for tourism\n	New Event Planning
X-ALT-DESC;FMTTYPE=text/html:<span style="font-size:20px\;">The Tourism Circle Agenda</span>\n<ul style="color: rgb(68\, 68\, 68)\; font-family: Calibri\, Helvetica\, Arial\, sans-serif\; font-size: 14.6667px\; background-color: rgb(255\, 255\, 255)\;">\n	<li _mce_style="font-size: 12pt\; color: #000000\;" style="font-size: 12pt\; color: rgb(0\, 0\, 0)\;"><span _mce_style="font-size: 12pt\;" style="font-size: 12pt\;">Co-op advertising opportunities (chamber to match funds)</span></li>\n	<li _mce_style="font-size: 12pt\; color: #000000\;" style="font-size: 12pt\; color: rgb(0\, 0\, 0)\;"><span _mce_style="font-size: 12pt\;" style="font-size: 12pt\;">New app for tourism</span></li>\n	<li _mce_style="font-size: 12pt\; color: #000000\;" style="font-size: 12pt\; color: rgb(0\, 0\, 0)\;"><span _mce_style="font-size: 12pt\;" style="font-size: 12pt\;">New Event Planning</span></li>\n</ul>\n
LOCATION:DoubleTree Hotel Hyannis
UID:e.3261.137
SEQUENCE:3
DTSTAMP:20260424T131924Z
URL:https://business.hyannis.com/events/details/tourism-circle-137
END:VEVENT

END:VCALENDAR
