BEGIN:VCALENDAR
VERSION:2.0
PRODID:-//ChamberMaster//Event Calendar 2.0//EN
METHOD:PUBLISH
X-PUBLISHED-TTL:P3D
REFRESH-INTERVAL:P3D
CALSCALE:GREGORIAN
BEGIN:VEVENT
DTSTART:20251004T130000Z
DTEND:20251004T200000Z
X-MICROSOFT-CDO-ALLDAYEVENT:FALSE
SUMMARY:Village Crafters on the Calvin C. Gould Library Green at the OVL for Fall Festival
DESCRIPTION:It's Fall Festival! Enjoy shopping for one of a kind crafts with the Village Crafters on the Calvin C Gould Library Green! Saturday October 4th from 9-4
X-ALT-DESC;FMTTYPE=text/html:It&rsquo\;s Fall Festival! Enjoy shopping for one of a kind crafts with the Village Crafters on the Calvin C Gould Library Green! Saturday October 4th from 9-4
LOCATION:Calvin C. Gould Library Green Osterville Village Library 43 Wianno Ave Osterville\, MA
UID:e.3261.3785
SEQUENCE:3
DTSTAMP:20260421T233232Z
URL:https://business.hyannis.com/events/details/village-crafters-on-the-calvin-c-gould-library-green-at-the-ovl-for-fall-festival-3785
END:VEVENT

END:VCALENDAR
