BEGIN:VCALENDAR
VERSION:2.0
PRODID:-//ChamberMaster//Event Calendar 2.0//EN
METHOD:PUBLISH
X-PUBLISHED-TTL:P3D
REFRESH-INTERVAL:P3D
CALSCALE:GREGORIAN
BEGIN:VEVENT
DTSTART:20180707T140000Z
DTEND:20180708T200000Z
X-MICROSOFT-CDO-ALLDAYEVENT:FALSE
SUMMARY:Windmill Green Arts and Craft Festival
DESCRIPTION:The Windmill Green Arts & Craft Festival will be held at the historic Windmill Park\, 2510 U.S. Route 6 in Eastham\, MA on Saturday July 7 and Sunday July 8\, 2018. Over 75 Juried craftspeople from all over New England will display and sell their American made arts and craft\; including Beach Inspired Art\, Up-cycled Crafts\, Fine Art\, Landscape Photography\, Turned Wood\, Quilts\, Personal Care\, Children's Clothing\, Flags\, Original Paintings\, Adult Apparel\, Pottery\, Sea-glass Creations\, Floral Design\, Table Runners\, Sea-glass jewelry\, Garden D cor\, Children's Toys\, Pet Accessories\, Paper Crafts\, Vintage Chic\, Country Wood Crafts\, Flags\, Ornaments\, Pillow Quilts\, Soy Candles\, Handbags\, Clay\, Music\, Hair Accessories\, Mixed Media and much more. Come and sample gourmet Specialty Foods including Herbal Dips\, Jams\, Jellies and more. The Eastham Summer Arts and Craft Festival is free admission and held rain or shine. Friendly pets on leash are welcome. Directions: From anywhere onto Route 6. GPS Location: 2510 U.S. Route 6 Eastham\, MA 02642. Festival Hours: Saturday 10am to 5pm and Sunday 10am to 4pm. For more information visit us at castleberryfairs.com.
X-ALT-DESC;FMTTYPE=text/html:The Windmill Green Arts &amp\; Craft Festival will be held at the historic Windmill Park\, 2510 U.S. Route 6 in Eastham\, MA on Saturday July 7 and Sunday July 8\, 2018. Over 75 Juried craftspeople from all over New England will display and sell their American made arts and craft\; including Beach Inspired Art\, Up-cycled Crafts\, Fine Art\, Landscape Photography\, Turned Wood\, Quilts\, Personal Care\, Children&#39\;s Clothing\, Flags\, Original Paintings\, Adult Apparel\, Pottery\, Sea-glass Creations\, Floral Design\, Table Runners\, Sea-glass jewelry\, Garden D&eacute\;cor\, Children&rsquo\;s Toys\, Pet Accessories\, Paper Crafts\, Vintage Chic\, Country Wood Crafts\, Flags\, Ornaments\, Pillow Quilts\, Soy Candles\, Handbags\, Clay\, Music\, Hair Accessories\, Mixed Media and much more. Come and sample gourmet Specialty Foods including Herbal Dips\, Jams\, Jellies and more. The Eastham Summer Arts and Craft Festival is free admission and held rain or shine. Friendly pets on leash are welcome. Directions: From anywhere onto Route 6. GPS Location: 2510 U.S. Route 6 Eastham\, MA 02642. Festival Hours: Saturday 10am to 5pm and Sunday 10am to 4pm. For more information visit us at castleberryfairs.com.
LOCATION:Windmill Park\, 2510 U.S. Route 6 in Eastham\, MA
UID:e.3261.19
SEQUENCE:3
DTSTAMP:20260424T211200Z
URL:https://business.hyannis.com/events/details/windmill-green-arts-and-craft-festival-19
END:VEVENT

END:VCALENDAR
