BEGIN:VCALENDAR
VERSION:2.0
PRODID:-//ChamberMaster//Event Calendar 2.0//EN
METHOD:PUBLISH
X-PUBLISHED-TTL:P3D
REFRESH-INTERVAL:P3D
CALSCALE:GREGORIAN
BEGIN:VEVENT
DTSTART:20181009T200000Z
DTEND:20181009T220000Z
X-MICROSOFT-CDO-ALLDAYEVENT:FALSE
SUMMARY:Yappy Hour Under the Tent
DESCRIPTION:Yappy Hour at Cape Cod Beer 2nd Tuesday of Every Month 4-6pm Join us monthly with your furry friend for a doggie social at the brewery   where you can bring your favorite four legged friend to meet with other four legged friends while you enjoy a beer or two! This is a *FREE* VERY CASUAL 2 hour event   so grab your pooch and head on over. Note: your dog should be friendly and on a leash. Please be prepared to clean up after your own dog. Also note: Your well behaved furry best friend is always welcome here at Cape Cod Beer   even when we are not hosting a "Yappy Hour" Sponsored by Pawsitive Provisions
X-ALT-DESC;FMTTYPE=text/html:Yappy Hour at Cape Cod Beer 2nd Tuesday of Every Month 4-6pm Join us monthly with your furry friend for a doggie social at the brewery &ndash\; where you can bring your favorite four legged friend to meet with other four legged friends while you enjoy a beer or two! This is a *FREE* VERY CASUAL 2 hour event &ndash\; so grab your pooch and head on over. Note: your dog should be friendly and on a leash. Please be prepared to clean up after your own dog. Also note: Your well behaved furry best friend is always welcome here at Cape Cod Beer &ndash\; even when we are not hosting a &ldquo\;Yappy Hour&rdquo\; Sponsored by Pawsitive Provisions
LOCATION:Cape Cod Beer 1336 Phinney's Lane Hyannis\, MA 02601
UID:e.3261.67
SEQUENCE:3
DTSTAMP:20260424T161338Z
URL:https://business.hyannis.com/events/details/yappy-hour-under-the-tent-10-09-2018-67
END:VEVENT

END:VCALENDAR
